BEGIN:VCALENDAR
VERSION:2.0
PRODID:-//実践投資研究会 - ECPv5.2.1//NONSGML v1.0//EN
CALSCALE:GREGORIAN
METHOD:PUBLISH
X-WR-CALNAME:実践投資研究会
X-ORIGINAL-URL:https://jissen-toshi-kenkyukai.com
X-WR-CALDESC:実践投資研究会 のイベント
BEGIN:VTIMEZONE
TZID:Asia/Tokyo
BEGIN:STANDARD
TZOFFSETFROM:+0900
TZOFFSETTO:+0900
TZNAME:JST
DTSTART:20200101T000000
END:STANDARD
END:VTIMEZONE
BEGIN:VEVENT
DTSTART;TZID=Asia/Tokyo:20200811T190000
DTEND;TZID=Asia/Tokyo:20200811T210000
DTSTAMP:20260421T174747
CREATED:20200414T114018Z
LAST-MODIFIED:20200701T054608Z
UID:1328-1597172400-1597179600@jissen-toshi-kenkyukai.com
SUMMARY:[8/11(水)19:00-21:00開催] 第5回 実践投資研究会のご案内
DESCRIPTION:ログイン後にZoom情報が閲覧できるようになっています。\nログインの上、ご確認をお願いします。 \n開催時刻：2020年8月11日 06:30 PM 大阪、札幌、東京\nトピック：[8/11(水)19:00-21:00開催] 第5回 実践投資研究会のご案内 \nこのウェビナーに事前登録する：\nhttps://us02web.zoom.us/webinar/register/WN_oFWn7shESGO7yr-RIWU3Rg \nご登録後、ウェビナー参加に関する確認メールが届きます。
URL:https://jissen-toshi-kenkyukai.com/event/seminar5/
LOCATION:ウインクあいち\, 中村区名駅４丁目４−３８\, 名古屋市\, 愛知県\, 450-0002\, 日本
CATEGORIES:実践投資研究会
ORGANIZER;CN="%E5%AE%9F%E8%B7%B5%E6%8A%95%E8%B3%87%E7%A0%94%E7%A9%B6%E4%BC%9A":MAILTO:info@jissenn-toshi-kenkyukai.com
END:VEVENT
END:VCALENDAR